BEGIN:VCALENDAR
VERSION:2.0
PRODID:-//BHR Group - ECPv4.5.10//NONSGML v1.0//EN
CALSCALE:GREGORIAN
METHOD:PUBLISH
X-WR-CALNAME:BHR Group
X-ORIGINAL-URL:https://www.bhrgroup.net
X-WR-CALDESC:Events for BHR Group
BEGIN:VEVENT
DTSTART;TZID=Europe/Rome:20181023T180000
DTEND;TZID=Europe/Rome:20181023T190000
DTSTAMP:20260425T192447
CREATED:20181010T101903Z
LAST-MODIFIED:20181026T195732Z
UID:4982-1540317600-1540321200@www.bhrgroup.net
SUMMARY:FATTURAZIONE ELETTRONICA? Quello che gli altri non dicono
DESCRIPTION:FATTURAZIONE ELETTRONICA? Quello che gli altri non dicono\nA poco più di tre mesi dall’entrata in vigore dell’obbligo della fatturazione elettronica tra privati BHR Group\, in partnership con la rete eFatturasemplice\, promuove una serie di incontri informativi sulla fatturazione elettronica e su quello che nessuno dice della fatturazione elettronica. \nGli incontri non avranno come argomento centrale la normativa e l’obbligazione da questa derivante\, bensì le reali conseguenze che questa avrà nella pratica operativa e amministrativa di ogni impresa e professionista. \nSi approfondiranno le varie soluzioni offerte dal mercato\, analizzando i risvolti che queste avranno nella vita quotidiana\, e quali siano i modelli organizzativi più efficienti per poter ottenere i massimi benefici e risparmi dall’introduzione della fatturazione elettronica. \n \n\n\nProgramma dell’incontro\nOre 17:30 – Registrazione partecipanti \nOre 18:00 – Inzio lavori \nOre 19:00 – Spazio per le domande \n  \n\n
URL:https://www.bhrgroup.net/evento/fatturaelettronica3/
LOCATION:Via Architetto G.C.Pellegrini Cipolla\, Tregnago\, 37039\, Italia
CATEGORIES:Convegni e seminari
ATTACH;FMTTYPE=image/png:https://www.bhrgroup.net/wp-content/uploads/2018/10/Immagine-Eventbrite.png
ORGANIZER;CN="BHR%20Group":MAILTO:info@bhrgroup.net
END:VEVENT
END:VCALENDAR