BEGIN:VCALENDAR
VERSION:2.0
PRODID:-//BHR Group - ECPv4.5.10//NONSGML v1.0//EN
CALSCALE:GREGORIAN
METHOD:PUBLISH
X-WR-CALNAME:BHR Group
X-ORIGINAL-URL:https://www.bhrgroup.net
X-WR-CALDESC:Events for BHR Group
BEGIN:VEVENT
DTSTART;TZID=Europe/Rome:20181107T150000
DTEND;TZID=Europe/Rome:20181107T160000
DTSTAMP:20260425T192542
CREATED:20181026T195530Z
LAST-MODIFIED:20181108T143544Z
UID:4992-1541602800-1541606400@www.bhrgroup.net
SUMMARY:FATTURAZIONE ELETTRONICA? Quello che gli altri non dicono
DESCRIPTION:FATTURAZIONE ELETTRONICA? Quello che gli altri non dicono\nA due mesi dall’entrata in vigore dell’obbligo della fatturazione elettronica tra privati BHR Group\, in partnership con la rete eFatturasemplice e ASFE S.c.a.r.l.\, promuove una serie di incontri informativi sulla fatturazione elettronica e su quello che nessuno dice della fatturazione elettronica. \nGli incontri non avranno come argomento centrale la normativa e l’obbligazione da questa derivante\, bensì le reali conseguenze che questa avrà nella pratica operativa e amministrativa di ogni impresa e professionista. \nSi approfondiranno le varie soluzioni offerte dal mercato\, analizzando i risvolti che queste avranno nella vita quotidiana\, e quali siano i modelli organizzativi più efficienti per poter ottenere i massimi benefici e risparmi dall’introduzione della fatturazione elettronica. \n \n\n\nProgramma dell’incontro\nOre 14:30 – Registrazione partecipanti \nOre 15:00 – Inzio lavori \nOre 16:00 – Spazio per le domande \n  \n\n
URL:https://www.bhrgroup.net/evento/fatturaelettronica4/
LOCATION:Via Giuseppe Belluzzo 2\, Verona\, 37132\, Italia
CATEGORIES:Convegni e seminari
ATTACH;FMTTYPE=image/png:https://www.bhrgroup.net/wp-content/uploads/2018/10/Immagine-Eventbrite-1.png
ORGANIZER;CN="eFatturasemplice":MAILTO:info@efatturasemplice.com
END:VEVENT
END:VCALENDAR