BEGIN:VCALENDAR
VERSION:2.0
PRODID:-//BHR Group - ECPv4.5.10//NONSGML v1.0//EN
CALSCALE:GREGORIAN
METHOD:PUBLISH
X-WR-CALNAME:BHR Group
X-ORIGINAL-URL:https://www.bhrgroup.net
X-WR-CALDESC:Events for BHR Group
BEGIN:VEVENT
DTSTART;TZID=Europe/Rome:20181127T180000
DTEND;TZID=Europe/Rome:20181127T190000
DTSTAMP:20260425T192107
CREATED:20181108T144205Z
LAST-MODIFIED:20181203T150535Z
UID:5006-1543341600-1543345200@www.bhrgroup.net
SUMMARY:FATTURAZIONE ELETTRONICA? Quello che gli altri non dicono
DESCRIPTION:FATTURAZIONE ELETTRONICA? Quello che gli altri non dicono\nA un mese dall’entrata in vigore dell’obbligo della fatturazione elettronica tra privati BHR Group\, in partnership con la rete eFatturasemplice \, continua a promuove la serie di incontri informativi sulla fatturazione elettronica e su quello che nessuno dice della fatturazione elettronica. \nGli incontri non avranno come argomento centrale la normativa e l’obbligazione da questa derivante\, bensì le reali conseguenze che questa avrà nella pratica operativa e amministrativa di ogni impresa e professionista. \nSi approfondiranno le varie soluzioni offerte dal mercato\, analizzando i risvolti che queste avranno nella vita quotidiana\, e quali siano i modelli organizzativi più efficienti per poter ottenere i massimi benefici e risparmi dall’introduzione della fatturazione elettronica. \n \n\n\nProgramma dell’incontro\nOre 17:30 – Registrazione partecipanti \nOre 18:00 – Inizio lavori \nOre 19:00 – Spazio per le domande \n  \n
URL:https://www.bhrgroup.net/evento/fatturaelettronica5/
LOCATION:Via Bassa 35\, Vallese\, 37050\, Italia
CATEGORIES:Convegni e seminari
ATTACH;FMTTYPE=image/png:https://www.bhrgroup.net/wp-content/uploads/2018/11/Immagine-Eventbrite.png
ORGANIZER;CN="eFatturasemplice":MAILTO:info@efatturasemplice.com
END:VEVENT
END:VCALENDAR