BEGIN:VCALENDAR
VERSION:2.0
PRODID:-//BHR Group - ECPv4.5.10//NONSGML v1.0//EN
CALSCALE:GREGORIAN
METHOD:PUBLISH
X-WR-CALNAME:BHR Group
X-ORIGINAL-URL:https://www.bhrgroup.net
X-WR-CALDESC:Events for BHR Group
BEGIN:VEVENT
DTSTART;TZID=Europe/Rome:20200725T170000
DTEND;TZID=Europe/Rome:20200726T000000
DTSTAMP:20260425T160947
CREATED:20200717T152217Z
LAST-MODIFIED:20200717T152336Z
UID:5240-1595696400-1595721600@www.bhrgroup.net
SUMMARY:Finale regionale 33^ edizione Sanremo Rock
DESCRIPTION:\n\nSabato 25 Luglio 2020 si terranno il terzo e quarto girone eliminatorio per la regione Veneto (Verona e Padova). \n16 band si sfideranno per i 6 posti che consentiranno di accedere alle finali Nazionali di Sanremo al teatro Ariston dal 7 al 12 Settembre. \nL’evento si terra nel meraviglioso parco della splendida Villa Del Bene\, luogo storico e punto d’interesse artistico culturale. \nARTISTI FINALISTI SECONDO GIRONE VERONA – VENEZIA :\nTempus Fugit\nFasmate\nJhon Valentin Mussati\nMattia Carlesso\nMosè Santamaria\nGiulio Montagna\nDavide Tonello\nMassimo Valli\n\nARTISTI FINALISTI TERZO GIRONE PADOVA:\nDuck Baleno\nLining Redox\nCajgo\nVertigine Dei Giganti\nCapobranco\nBoulevard\nEvolve Alba\n\n\n\n\n\n  \nL’ingresso è gratuito\, ma è necessario prenotare il proprio biglietto cliccando su questo link \n\n\n\n
URL:https://www.bhrgroup.net/evento/finale-regionale-33-edizione-sanremo-rock/
LOCATION:Via Villa Del Bene 116\, Volargne\, 37020\, Italia
CATEGORIES:Concerti
ATTACH;FMTTYPE=image/jpeg:https://www.bhrgroup.net/wp-content/uploads/2020/07/Immagine-Sanremo-Rock.jpg
ORGANIZER;CN="Villa%20Del%20Bene":MAILTO:info@villadelbene.com
END:VEVENT
END:VCALENDAR