BEGIN:VCALENDAR
VERSION:2.0
PRODID:-//BHR Group - ECPv4.5.10//NONSGML v1.0//EN
CALSCALE:GREGORIAN
METHOD:PUBLISH
X-WR-CALNAME:BHR Group
X-ORIGINAL-URL:https://www.bhrgroup.net
X-WR-CALDESC:Events for BHR Group
BEGIN:VEVENT
DTSTART;TZID=Europe/Rome:20200925T163000
DTEND;TZID=Europe/Rome:20201128T123000
DTSTAMP:20260425T160751
CREATED:20200909T122051Z
LAST-MODIFIED:20200915T092650Z
UID:5248-1601051400-1606566600@www.bhrgroup.net
SUMMARY:Mostra fotografica "FORME DINAMICHE DELLA LUCE"
DESCRIPTION:Un oggetto\, sufficientemente caratterizzato esteriormente che sembra in movimento grazie alla luce. La luce\, una radiazione elettromagnetica percepibile dall’occhio umano e trasformata dal cervello in una sensazione visiva. Qui la scienza può incontrare l’arte o viceversa. \nA quante persone è capitato di rimanere letteralmente “storditi”\, davanti a uno dei capolavori realizzati da grandi maestri del passato come ad esempio Caravaggio? Ma anche da opere d’arte di artisti contemporanei come Balla o Flavin. \nLa rappresentazione della luce in una forma dinamica richiede una ricerca di soluzioni espressive sempre diverse\, sia in ambito visivo sia in ambito cognitivo\, che mettono ininterrottamente in discussione il ruolo interpretativo dell’uomo nei confronti di ciò che lo circonda e si muove attorno a lui\, sia esso un oggetto\, un paesaggio\, una struttura o gli uomini stessi. \nMolte delle emozioni o impressioni che riceviamo mentre ammiriamo un’opera d’arte ci vengono trasmesse anche grazie alla forza e all’espressività della luce\, un elemento davvero importante per tutti gli artisti del passato e del presente. La luce è fondamentale per la realizzazione di un’opera d’arte. \nGli esseri umani sono una specie altamente dipendente dal senso della visione\, ed usano gli occhi costantemente per valutare il mondo circostante. Con occhi rivolti in avanti come gli altri primati\, usiamo la visione per percepire quei molti aspetti dell’ambiente che sono lontani dal nostro corpo. \nLa luce\, una forma di energia elettromagnetica che entra nei nostri occhi e dà l’avvio a processi attraverso i quali vengono generati impulsi neurali che attivano quelle parti del cervello dedicate alla visione\, regalandoci emozioni e stupore. \nCosì la luce diventa opere d’arte grazie alla fotografia di Massimo Alfano\, vincitore della quarta edizione del Premio Internazionale di Fotografia “Agnese Meotti” e Mauro Cappelletti. \n  \nORARI DI APERTURA \nSabato dalle 16:30 alle 19:30 \nDomenica dalle 09:30 alle 12:30 \n  \nScarica la locandina della mostra \n
URL:https://www.bhrgroup.net/evento/forme-dinamiche/
LOCATION:Via Croce 12\, Oppeano\, 37050\, Italia
CATEGORIES:Mostre
ATTACH;FMTTYPE=image/png:https://www.bhrgroup.net/wp-content/uploads/2020/09/Immagine-eventi-sito-BHR-Group.png
ORGANIZER;CN="Premio%20Agnese%20Meotti":MAILTO:info@premioagnesemeotti.com
END:VEVENT
END:VCALENDAR